BEGIN:VCALENDAR
VERSION:2.0
CALSCALE:GREGORIAN
PRODID:adamgibbons/ics
METHOD:PUBLISH
X-PUBLISHED-TTL:PT1H
BEGIN:VEVENT
UID:14@tucsontimeline.info
SUMMARY:Toxic Ranch Records book signing
DTSTAMP:20260423T121311Z
DTSTART:20240908T190000Z
DTEND:20240908T210000Z
DESCRIPTION:Bill Sassenberger will be signing his book\, Toxic Shock Assass
	in of Mediocrity\,\nA Story of Love\, Loss and Loud Music\, at Barnes & No
	ble Tucson. The event will\nalso feature Toxic Shock swag (stickers\, CDs 
	and shirts) and fresh broccoli.\nAddress: Foothills Mall\, 7325 N. La Chol
	la Blvd. Ste 100\, Tucson\, AZ 85741
URL:https://tucsontimeline.info/event/toxic-ranch-records-book-signing
LOCATION:Barnes and Noble - Foothills Mall\, 7325 N. La Cholla Blvd. Ste 10
	0\, Tucson\, AZ 85741
STATUS:CONFIRMED
CATEGORIES:books,music
X-ALT-DESC;FMTTYPE=text/html:<p>Bill Sassenberger will be signing his book,
	 Toxic Shock Assassin of Mediocrity, A Story of Love, Loss and Loud Music,
	 at Barnes &amp; Noble Tucson. The event will also feature Toxic Shock swa
	g (stickers, CDs and shirts) and fresh broccoli. Address: Foothills Mall, 
	7325 N. La Cholla Blvd. Ste 100, Tucson, AZ 85741</p>
END:VEVENT
END:VCALENDAR
